BEGIN:VCALENDAR
VERSION:2.0
PRODID:-//Contratero//ES
CALSCALE:GREGORIAN
METHOD:PUBLISH
BEGIN:VEVENT
UID:051SER20@contratero.es
DTSTAMP:20260425T014408Z
DTSTART:20200930T235959
DTEND:20201001T005959
SUMMARY:Cierre: Contrato de servicios de apoyo en la gestión catas
DESCRIPTION:Contrato de servicios de apoyo en la gestión catastral del municipio de Navalcarnero de acuerdo con lo establecido en el Convenio suscrito entre la Dirección General del Catastro y el Ayuntamiento de ...\\n\\nOrganismo: Junta de Gobierno del Ayuntamiento de Navalcarnero\\n\\nVer en Contratero: https://contratero.es/contracts/051SER20
URL:https://contratero.es/contracts/051SER20
STATUS:CONFIRMED
BEGIN:VALARM
TRIGGER:-P1D
ACTION:DISPLAY
DESCRIPTION:Recordatorio: Contrato de servicios de apoyo
END:VALARM
END:VEVENT
END:VCALENDAR