BEGIN:VCALENDAR
VERSION:2.0
PRODID:-//Contratero//ES
CALSCALE:GREGORIAN
METHOD:PUBLISH
BEGIN:VEVENT
UID:052021@contratero.es
DTSTAMP:20260424T020008Z
DTSTART:20210412T235959
DTEND:20210413T005959
SUMMARY:Cierre: Servicio de desarrollo de normas UNE que ofrezcan 
DESCRIPTION:Servicio de desarrollo de normas UNE que ofrezcan un marco lógico de trabajo para los gestores de los destinos turísticos españoles tal y como se define en el “PLIEGO DE PRESCRIPCIONES TÉCNICAS DE LA ...\\n\\nOrganismo: Presidencia de la Sociedad Mercantil Estatal para la Gestión de la Innovación y las Tecnologías Turísticas\,  S.A.M.P. (SEGITTUR)\\n\\nVer en Contratero: https://contratero.es/contracts/052021
URL:https://contratero.es/contracts/052021
STATUS:CONFIRMED
BEGIN:VALARM
TRIGGER:-P1D
ACTION:DISPLAY
DESCRIPTION:Recordatorio: Servicio de desarrollo de norm
END:VALARM
END:VEVENT
END:VCALENDAR