BEGIN:VCALENDAR
VERSION:2.0
PRODID:-//Contratero//ES
CALSCALE:GREGORIAN
METHOD:PUBLISH
BEGIN:VEVENT
UID:053/21-S@contratero.es
DTSTAMP:20260423T184949Z
DTSTART:20210819T235959
DTEND:20210820T005959
SUMMARY:Cierre: Servicio de realización de inventario de bienes mu
DESCRIPTION:Servicio de realización de inventario de bienes muebles y su inserción en la aplicación informática de la Confederación Hidrográfica del Ebro\\n\\nOrganismo: Presidencia de la Confederación Hidrográfica del Ebro\\n\\nVer en Contratero: https://contratero.es/contracts/053/21-S
URL:https://contratero.es/contracts/053/21-S
STATUS:CONFIRMED
BEGIN:VALARM
TRIGGER:-P1D
ACTION:DISPLAY
DESCRIPTION:Recordatorio: Servicio de realización de inv
END:VALARM
END:VEVENT
END:VCALENDAR