BEGIN:VCALENDAR
VERSION:2.0
PRODID:-//Contratero//ES
CALSCALE:GREGORIAN
METHOD:PUBLISH
BEGIN:VEVENT
UID:053/25@contratero.es
DTSTAMP:20260420T205050Z
DTSTART:20250903T235959
DTEND:20250904T005959
SUMMARY:Cierre: Servidores para la virtualización de entornos
DESCRIPTION:Servidores para la virtualización de entornos\\n\\nOrganismo: Dirección General del Instituto Nacional de Ciberseguridad de España\, S.A. (INCIBE)\\n\\nVer en Contratero: https://contratero.es/contracts/053/25
URL:https://contratero.es/contracts/053/25
STATUS:CONFIRMED
BEGIN:VALARM
TRIGGER:-P1D
ACTION:DISPLAY
DESCRIPTION:Recordatorio: Servidores para la virtualizac
END:VALARM
END:VEVENT
END:VCALENDAR