BEGIN:VCALENDAR
VERSION:2.0
PRODID:-//Contratero//ES
CALSCALE:GREGORIAN
METHOD:PUBLISH
BEGIN:VEVENT
UID:0604/2018@contratero.es
DTSTAMP:20260423T032612Z
DTSTART:20200720T235959
DTEND:20200721T005959
SUMMARY:Cierre: Servicio de telecentros municipales incluido sumin
DESCRIPTION:Servicio de telecentros municipales incluido suministro en modalidad de arrendamiento\, instalación\, puesta en marcha y mantenimiento\\n\\nOrganismo: Junta de Gobierno del Ayuntamiento de Leganés\\n\\nVer en Contratero: https://contratero.es/contracts/0604/2018
URL:https://contratero.es/contracts/0604/2018
STATUS:CONFIRMED
BEGIN:VALARM
TRIGGER:-P1D
ACTION:DISPLAY
DESCRIPTION:Recordatorio: Servicio de telecentros munici
END:VALARM
END:VEVENT
END:VCALENDAR