BEGIN:VCALENDAR
VERSION:2.0
PRODID:-//Contratero//ES
CALSCALE:GREGORIAN
METHOD:PUBLISH
BEGIN:VEVENT
UID:065/23-CO@contratero.es
DTSTAMP:20260422T071356Z
DTSTART:20231124T235959
DTEND:20231125T005959
SUMMARY:Cierre: Servicio de internet para el pabellón de España en
DESCRIPTION:Servicio de internet para el pabellón de España en MW24\\n\\nOrganismo: Dirección General de la Entidad Pública Empresarial RED.ES\\n\\nVer en Contratero: https://contratero.es/contracts/065/23-CO
URL:https://contratero.es/contracts/065/23-CO
STATUS:CONFIRMED
BEGIN:VALARM
TRIGGER:-P1D
ACTION:DISPLAY
DESCRIPTION:Recordatorio: Servicio de internet para el p
END:VALARM
END:VEVENT
END:VCALENDAR