BEGIN:VCALENDAR
VERSION:2.0
PRODID:-//Contratero//ES
CALSCALE:GREGORIAN
METHOD:PUBLISH
BEGIN:VEVENT
UID:0654/2024@contratero.es
DTSTAMP:20260422T075846Z
DTSTART:20241129T235959
DTEND:20241130T005959
SUMMARY:Cierre: Contratación del Mantenimiento de Licencias Softwa
DESCRIPTION:Contratación del Mantenimiento de Licencias Software del SCADA WONDERWARE de EMASESA 2025-2029\\n\\nOrganismo: Consejería Delegada de la Empresa Metropolitana de Abastecimiento y Saneamiento de Aguas de Sevilla S.A. (EMASESA)\\n\\nVer en Contratero: https://contratero.es/contracts/0654/2024
URL:https://contratero.es/contracts/0654/2024
STATUS:CONFIRMED
BEGIN:VALARM
TRIGGER:-P1D
ACTION:DISPLAY
DESCRIPTION:Recordatorio: Contratación del Mantenimiento
END:VALARM
END:VEVENT
END:VCALENDAR