BEGIN:VCALENDAR
VERSION:2.0
PRODID:-//Contratero//ES
CALSCALE:GREGORIAN
METHOD:PUBLISH
BEGIN:VEVENT
UID:0702/2025@contratero.es
DTSTAMP:20260423T135643Z
DTSTART:20251212T235959
DTEND:20251213T005959
SUMMARY:Cierre: Contratación de soporte técnico de licencias OPC K
DESCRIPTION:Contratación de soporte técnico de licencias OPC KEPWARE (2026-2029)\\n\\nOrganismo: Consejería Delegada de la Empresa Metropolitana de Abastecimiento y Saneamiento de Aguas de Sevilla S.A. (EMASESA)\\n\\nVer en Contratero: https://contratero.es/contracts/0702/2025
URL:https://contratero.es/contracts/0702/2025
STATUS:CONFIRMED
BEGIN:VALARM
TRIGGER:-P1D
ACTION:DISPLAY
DESCRIPTION:Recordatorio: Contratación de soporte técnic
END:VALARM
END:VEVENT
END:VCALENDAR