BEGIN:VCALENDAR
VERSION:2.0
PRODID:-//Contratero//ES
CALSCALE:GREGORIAN
METHOD:PUBLISH
BEGIN:VEVENT
UID:073/2023@contratero.es
DTSTAMP:20260421T220335Z
DTSTART:20230519T235959
DTEND:20230520T005959
SUMMARY:Cierre: El objeto de la presente licitación es la “contrat
DESCRIPTION:El objeto de la presente licitación es la “contratación del Servicio de Apoyo y Soporte  Tecnológico a la Dirección de Tecnologías de la Información” que permita la interactuación con un equipo que co...\\n\\nOrganismo: Consejo de Administración de ICEX España Exportación e Inversiones\, E.P.E.\\n\\nVer en Contratero: https://contratero.es/contracts/073/2023
URL:https://contratero.es/contracts/073/2023
STATUS:CONFIRMED
BEGIN:VALARM
TRIGGER:-P1D
ACTION:DISPLAY
DESCRIPTION:Recordatorio: El objeto de la presente licit
END:VALARM
END:VEVENT
END:VCALENDAR