BEGIN:VCALENDAR
VERSION:2.0
PRODID:-//Contratero//ES
CALSCALE:GREGORIAN
METHOD:PUBLISH
BEGIN:VEVENT
UID:073/21-SP@contratero.es
DTSTAMP:20260424T092344Z
DTSTART:20211119T235959
DTEND:20211120T005959
SUMMARY:Cierre: Suministro e implantación de una solución para la 
DESCRIPTION:Suministro e implantación de una solución para la extensión del sistema corporativo de imagen médica del sistema sanitario público de\nAndalucía\\n\\nOrganismo: Dirección General de la Entidad Pública Empresarial RED.ES\\n\\nVer en Contratero: https://contratero.es/contracts/073/21-SP
URL:https://contratero.es/contracts/073/21-SP
STATUS:CONFIRMED
BEGIN:VALARM
TRIGGER:-P1D
ACTION:DISPLAY
DESCRIPTION:Recordatorio: Suministro e implantación de u
END:VALARM
END:VEVENT
END:VCALENDAR