BEGIN:VCALENDAR
VERSION:2.0
PRODID:-//Contratero//ES
CALSCALE:GREGORIAN
METHOD:PUBLISH
BEGIN:VEVENT
UID:077/23-RI@contratero.es
DTSTAMP:20260422T080045Z
DTSTART:20240325T235959
DTEND:20240326T005959
SUMMARY:Cierre: Servicio de alojamiento para infraestructura de Re
DESCRIPTION:Servicio de alojamiento para infraestructura de RedIRIS en Madrid\\n\\nOrganismo: Dirección General de la Entidad Pública Empresarial RED.ES\\n\\nVer en Contratero: https://contratero.es/contracts/077/23-RI
URL:https://contratero.es/contracts/077/23-RI
STATUS:CONFIRMED
BEGIN:VALARM
TRIGGER:-P1D
ACTION:DISPLAY
DESCRIPTION:Recordatorio: Servicio de alojamiento para i
END:VALARM
END:VEVENT
END:VCALENDAR