BEGIN:VCALENDAR
VERSION:2.0
PRODID:-//Contratero//ES
CALSCALE:GREGORIAN
METHOD:PUBLISH
BEGIN:VEVENT
UID:086/25@contratero.es
DTSTAMP:20260419T172122Z
DTSTART:20260204T235959
DTEND:20260205T005959
SUMMARY:Cierre: Registro y gestión manual y automatizada de nombre
DESCRIPTION:Registro y gestión manual y automatizada de nombres de dominio\, DNS\, certificados y buzones de correo electrónico\\n\\nOrganismo: Dirección General del Instituto Nacional de Ciberseguridad de España\, S.A. (INCIBE)\\n\\nVer en Contratero: https://contratero.es/contracts/086/25
URL:https://contratero.es/contracts/086/25
STATUS:CONFIRMED
BEGIN:VALARM
TRIGGER:-P1D
ACTION:DISPLAY
DESCRIPTION:Recordatorio: Registro y gestión manual y au
END:VALARM
END:VEVENT
END:VCALENDAR