BEGIN:VCALENDAR
VERSION:2.0
PRODID:-//Contratero//ES
CALSCALE:GREGORIAN
METHOD:PUBLISH
BEGIN:VEVENT
UID:08725PAO@contratero.es
DTSTAMP:20260420T044215Z
DTSTART:20250915T235959
DTEND:20250916T005959
SUMMARY:Cierre: Servicio de distribución de contenidos por interne
DESCRIPTION:Servicio de distribución de contenidos por internet para Canal Extremadura\\n\\nOrganismo: Dirección General de la Sociedad Pública de Radiodifusión y Televisión Extremeña S.A.U.\\n\\nVer en Contratero: https://contratero.es/contracts/08725PAO
URL:https://contratero.es/contracts/08725PAO
STATUS:CONFIRMED
BEGIN:VALARM
TRIGGER:-P1D
ACTION:DISPLAY
DESCRIPTION:Recordatorio: Servicio de distribución de co
END:VALARM
END:VEVENT
END:VCALENDAR