BEGIN:VCALENDAR
VERSION:2.0
PRODID:-//Contratero//ES
CALSCALE:GREGORIAN
METHOD:PUBLISH
BEGIN:VEVENT
UID:093/25-S@contratero.es
DTSTAMP:20260422T044712Z
DTSTART:20251209T235959
DTEND:20251210T005959
SUMMARY:Cierre: Mantenimiento del centro de proceso de datos y sis
DESCRIPTION:Mantenimiento del centro de proceso de datos y sistemas auxiliares de la Confederación Hidrográfica del Ebro\\n\\nOrganismo: Presidencia de la Confederación Hidrográfica del Ebro\\n\\nVer en Contratero: https://contratero.es/contracts/093/25-S
URL:https://contratero.es/contracts/093/25-S
STATUS:CONFIRMED
BEGIN:VALARM
TRIGGER:-P1D
ACTION:DISPLAY
DESCRIPTION:Recordatorio: Mantenimiento del centro de pr
END:VALARM
END:VEVENT
END:VCALENDAR