BEGIN:VCALENDAR
VERSION:2.0
PRODID:-//Contratero//ES
CALSCALE:GREGORIAN
METHOD:PUBLISH
BEGIN:VEVENT
UID:096/18-ED@contratero.es
DTSTAMP:20260425T213521Z
DTSTART:20190227T235959
DTEND:20190228T005959
SUMMARY:Cierre: Prestación de Servicios Similares de creación de p
DESCRIPTION:Prestación de Servicios Similares de creación de proyectos colaborativos a partir de contenido digitalizado de la Biblioteca Nacional de España\\n\\nOrganismo: Dirección General de la Entidad Pública Empresarial RED.ES\\n\\nVer en Contratero: https://contratero.es/contracts/096/18-ED
URL:https://contratero.es/contracts/096/18-ED
STATUS:CONFIRMED
BEGIN:VALARM
TRIGGER:-P1D
ACTION:DISPLAY
DESCRIPTION:Recordatorio: Prestación de Servicios Simila
END:VALARM
END:VEVENT
END:VCALENDAR