BEGIN:VCALENDAR
VERSION:2.0
PRODID:-//Contratero//ES
CALSCALE:GREGORIAN
METHOD:PUBLISH
BEGIN:VEVENT
UID:09CA-201949@contratero.es
DTSTAMP:20260423T184835Z
DTSTART:20190813T235959
DTEND:20190814T005959
SUMMARY:Cierre: Servicio de mantenimiento del sistema antivirus Mc
DESCRIPTION:Servicio de mantenimiento del sistema antivirus McAfee Complete EndPoint Protection Business\, instalado en los sistemas del Ayuntamiento\, así como la gestión de las 146 licencias antivirus actuales\, l...\\n\\nOrganismo: Junta de Gobierno del Ayuntamiento de Torrelodones\\n\\nVer en Contratero: https://contratero.es/contracts/09CA-201949
URL:https://contratero.es/contracts/09CA-201949
STATUS:CONFIRMED
BEGIN:VALARM
TRIGGER:-P1D
ACTION:DISPLAY
DESCRIPTION:Recordatorio: Servicio de mantenimiento del 
END:VALARM
END:VEVENT
END:VCALENDAR