BEGIN:VCALENDAR
VERSION:2.0
PRODID:-//Contratero//ES
CALSCALE:GREGORIAN
METHOD:PUBLISH
BEGIN:VEVENT
UID:09CA-202019@contratero.es
DTSTAMP:20260423T113631Z
DTSTART:20200708T235959
DTEND:20200709T005959
SUMMARY:Cierre: Renovación y mantenimiento de las licencias softwa
DESCRIPTION:Renovación y mantenimiento de las licencias software antivirus Mcafee\\n\\nOrganismo: Junta de Gobierno del Ayuntamiento de Torrelodones\\n\\nVer en Contratero: https://contratero.es/contracts/09CA-202019
URL:https://contratero.es/contracts/09CA-202019
STATUS:CONFIRMED
BEGIN:VALARM
TRIGGER:-P1D
ACTION:DISPLAY
DESCRIPTION:Recordatorio: Renovación y mantenimiento de 
END:VALARM
END:VEVENT
END:VCALENDAR