BEGIN:VCALENDAR
VERSION:2.0
PRODID:-//Contratero//ES
CALSCALE:GREGORIAN
METHOD:PUBLISH
BEGIN:VEVENT
UID:09CA-202046@contratero.es
DTSTAMP:20260421T054105Z
DTSTART:20201113T235959
DTEND:20201114T005959
SUMMARY:Cierre: Servicios para la digitalización de la Concejalía 
DESCRIPTION:Servicios para la digitalización de la Concejalía de Juventud mediante la creación y puesta en funcionamiento\, mantenimiento\, desarrollo y asistencia técnica de una página web educativo\, para la Conce...\\n\\nOrganismo: Junta de Gobierno del Ayuntamiento de Torrelodones\\n\\nVer en Contratero: https://contratero.es/contracts/09CA-202046
URL:https://contratero.es/contracts/09CA-202046
STATUS:CONFIRMED
BEGIN:VALARM
TRIGGER:-P1D
ACTION:DISPLAY
DESCRIPTION:Recordatorio: Servicios para la digitalizaci
END:VALARM
END:VEVENT
END:VCALENDAR