BEGIN:VCALENDAR
VERSION:2.0
PRODID:-//Contratero//ES
CALSCALE:GREGORIAN
METHOD:PUBLISH
BEGIN:VEVENT
UID:09CA-202313@contratero.es
DTSTAMP:20260420T064513Z
DTSTART:20230512T235959
DTEND:20230513T005959
SUMMARY:Cierre: Mantenimiento de la web del Ayuntamiento de Torrel
DESCRIPTION:Mantenimiento de la web del Ayuntamiento de Torrelodones.\\n\\nOrganismo: Junta de Gobierno del Ayuntamiento de Torrelodones\\n\\nVer en Contratero: https://contratero.es/contracts/09CA-202313
URL:https://contratero.es/contracts/09CA-202313
STATUS:CONFIRMED
BEGIN:VALARM
TRIGGER:-P1D
ACTION:DISPLAY
DESCRIPTION:Recordatorio: Mantenimiento de la web del Ay
END:VALARM
END:VEVENT
END:VCALENDAR