BEGIN:VCALENDAR
VERSION:2.0
PRODID:-//Contratero//ES
CALSCALE:GREGORIAN
METHOD:PUBLISH
BEGIN:VEVENT
UID:1.-2022@contratero.es
DTSTAMP:20260423T170744Z
DTSTART:20220813T235959
DTEND:20220814T005959
SUMMARY:Cierre: Servicios de Telecomunicaciones de voz\, tanto fijo
DESCRIPTION:Servicios de Telecomunicaciones de voz\, tanto fijos como móviles\, datos e Internet del Ayuntamiento de Blanca conforme a lo establecido en el Pliego de Prescripciones Técnicas Particulares del Contrat...\\n\\nOrganismo: Alcaldía del Ayuntamiento de Blanca\\n\\nVer en Contratero: https://contratero.es/contracts/1.-2022
URL:https://contratero.es/contracts/1.-2022
STATUS:CONFIRMED
BEGIN:VALARM
TRIGGER:-P1D
ACTION:DISPLAY
DESCRIPTION:Recordatorio: Servicios de Telecomunicacione
END:VALARM
END:VEVENT
END:VCALENDAR