BEGIN:VCALENDAR
VERSION:2.0
PRODID:-//Contratero//ES
CALSCALE:GREGORIAN
METHOD:PUBLISH
BEGIN:VEVENT
UID:1.20.2019.11@contratero.es
DTSTAMP:20260421T140914Z
DTSTART:20191120T235959
DTEND:20191121T005959
SUMMARY:Cierre: alojar los servicios de la WEB municipal con el do
DESCRIPTION:alojar los servicios de la WEB municipal con el dominio vvapardillo.org\, de la Sede Electrónica y del correo electrónico corporativo\\n\\nOrganismo: Junta de Gobierno Local del Ayuntamiento de Villanueva del Pardillo\\n\\nVer en Contratero: https://contratero.es/contracts/1.20.2019.11
URL:https://contratero.es/contracts/1.20.2019.11
STATUS:CONFIRMED
BEGIN:VALARM
TRIGGER:-P1D
ACTION:DISPLAY
DESCRIPTION:Recordatorio: alojar los servicios de la WEB
END:VALARM
END:VEVENT
END:VCALENDAR