BEGIN:VCALENDAR
VERSION:2.0
PRODID:-//Contratero//ES
CALSCALE:GREGORIAN
METHOD:PUBLISH
BEGIN:VEVENT
UID:1.4.11/24@contratero.es
DTSTAMP:20260425T111433Z
DTSTART:20240527T235959
DTEND:20240528T005959
SUMMARY:Cierre: Contrato de servicios del mantenimiento informátic
DESCRIPTION:Contrato de servicios del mantenimiento informático y gestión de contenidos de Jovenmania\, central de reservas de albergues y apps de la Dirección General de Juventud\, Cooperación al Desarrollo y Volu...\\n\\nOrganismo: Consejería de Inclusión Social\, Juventud\, Familias e Igualdad de la Comunidad Autónoma de Cantabria\\n\\nVer en Contratero: https://contratero.es/contracts/1.4.11/24
URL:https://contratero.es/contracts/1.4.11/24
STATUS:CONFIRMED
BEGIN:VALARM
TRIGGER:-P1D
ACTION:DISPLAY
DESCRIPTION:Recordatorio: Contrato de servicios del mant
END:VALARM
END:VEVENT
END:VCALENDAR