BEGIN:VCALENDAR
VERSION:2.0
PRODID:-//Contratero//ES
CALSCALE:GREGORIAN
METHOD:PUBLISH
BEGIN:VEVENT
UID:1/2020CSPSS@contratero.es
DTSTAMP:20260421T154116Z
DTSTART:20201117T235959
DTEND:20201118T005959
SUMMARY:Cierre: Contratación de un servicio integral de control\, y
DESCRIPTION:Contratación de un servicio integral de control\, y gestión horaria a través de un portal del empleado para el ayuntamiento\, mediante procedimiento abierto simplificado sumario.\\n\\nOrganismo: Alcaldía del Ajuntament de Llutxent\\n\\nVer en Contratero: https://contratero.es/contracts/1/2020CSPSS
URL:https://contratero.es/contracts/1/2020CSPSS
STATUS:CONFIRMED
BEGIN:VALARM
TRIGGER:-P1D
ACTION:DISPLAY
DESCRIPTION:Recordatorio: Contratación de un servicio in
END:VALARM
END:VEVENT
END:VCALENDAR