BEGIN:VCALENDAR
VERSION:2.0
PRODID:-//Contratero//ES
CALSCALE:GREGORIAN
METHOD:PUBLISH
BEGIN:VEVENT
UID:1/2021@contratero.es
DTSTAMP:20260424T232400Z
DTSTART:20210603T235959
DTEND:20210604T005959
SUMMARY:Cierre: Contrato mixto de suministros y servicios de impla
DESCRIPTION:Contrato mixto de suministros y servicios de implantación de módulos de contabilidad GEMA para el Ayuntamiento de Jaén y sus Organismos Autónomos\\n\\nOrganismo: Alcaldía del Ayuntamiento de Jaén\\n\\nVer en Contratero: https://contratero.es/contracts/1/2021
URL:https://contratero.es/contracts/1/2021
STATUS:CONFIRMED
BEGIN:VALARM
TRIGGER:-P1D
ACTION:DISPLAY
DESCRIPTION:Recordatorio: Contrato mixto de suministros 
END:VALARM
END:VEVENT
END:VCALENDAR