BEGIN:VCALENDAR
VERSION:2.0
PRODID:-//Contratero//ES
CALSCALE:GREGORIAN
METHOD:PUBLISH
BEGIN:VEVENT
UID:10.4.17/25@contratero.es
DTSTAMP:20260421T151224Z
DTSTART:20251113T235959
DTEND:20251114T005959
SUMMARY:Cierre: Mantenimiento\, actualización y adaptación de la ap
DESCRIPTION:Mantenimiento\, actualización y adaptación de la aplicación sagitario para la gestión de la incapacidad temporal para el área de inspección y evaluación de la dirección general de planificiación\, orden...\\n\\nOrganismo: Consejería de Salud de la Comunidad Autónoma de Cantabria\\n\\nVer en Contratero: https://contratero.es/contracts/10.4.17/25
URL:https://contratero.es/contracts/10.4.17/25
STATUS:CONFIRMED
BEGIN:VALARM
TRIGGER:-P1D
ACTION:DISPLAY
DESCRIPTION:Recordatorio: Mantenimiento\, actualización y
END:VALARM
END:VEVENT
END:VCALENDAR