BEGIN:VCALENDAR
VERSION:2.0
PRODID:-//Contratero//ES
CALSCALE:GREGORIAN
METHOD:PUBLISH
BEGIN:VEVENT
UID:100/2024@contratero.es
DTSTAMP:20260420T213532Z
DTSTART:20241121T235959
DTEND:20241122T005959
SUMMARY:Cierre: Servicio de mantenimiento de la aplicación informá
DESCRIPTION:Servicio de mantenimiento de la aplicación informática par la Gestión Unificada de la Información para la Acción Socio-Laboral\, GUIAS\, y volcado SIUSS.\\n\\nOrganismo: Junta de Gobierno del Ayuntamiento de Valdemoro\\n\\nVer en Contratero: https://contratero.es/contracts/100/2024
URL:https://contratero.es/contracts/100/2024
STATUS:CONFIRMED
BEGIN:VALARM
TRIGGER:-P1D
ACTION:DISPLAY
DESCRIPTION:Recordatorio: Servicio de mantenimiento de l
END:VALARM
END:VEVENT
END:VCALENDAR