BEGIN:VCALENDAR
VERSION:2.0
PRODID:-//Contratero//ES
CALSCALE:GREGORIAN
METHOD:PUBLISH
BEGIN:VEVENT
UID:10000043/2021@contratero.es
DTSTAMP:20260423T231107Z
DTSTART:20210322T235959
DTEND:20210323T005959
SUMMARY:Cierre: Servicio de recogida\, grabación y depuración de la
DESCRIPTION:Servicio de recogida\, grabación y depuración de la información de la Encuesta Anual Laboral 2020 y la Encuesta de Formación Profesional para el Empleo de las Empresas 2020.\\n\\nOrganismo: Junta de Contratación del Ministerio de Trabajo y Economía Social\\n\\nVer en Contratero: https://contratero.es/contracts/10000043/2021
URL:https://contratero.es/contracts/10000043/2021
STATUS:CONFIRMED
BEGIN:VALARM
TRIGGER:-P1D
ACTION:DISPLAY
DESCRIPTION:Recordatorio: Servicio de recogida\, grabació
END:VALARM
END:VEVENT
END:VCALENDAR