BEGIN:VCALENDAR
VERSION:2.0
PRODID:-//Contratero//ES
CALSCALE:GREGORIAN
METHOD:PUBLISH
BEGIN:VEVENT
UID:10000064/2021@contratero.es
DTSTAMP:20260424T021916Z
DTSTART:20210305T235959
DTEND:20210306T005959
SUMMARY:Cierre: Servicio de recogida\, grabación y depuración de la
DESCRIPTION:Servicio de recogida\, grabación y depuración de la información de la Encuesta de gasto y participantes de las Comunidades Autónomas y Entidades Locales en políticas activas de empleo 2020. Cofinanciad...\\n\\nOrganismo: Junta de Contratación del Ministerio de Trabajo y Economía Social\\n\\nVer en Contratero: https://contratero.es/contracts/10000064/2021
URL:https://contratero.es/contracts/10000064/2021
STATUS:CONFIRMED
BEGIN:VALARM
TRIGGER:-P1D
ACTION:DISPLAY
DESCRIPTION:Recordatorio: Servicio de recogida\, grabació
END:VALARM
END:VEVENT
END:VCALENDAR