BEGIN:VCALENDAR
VERSION:2.0
PRODID:-//Contratero//ES
CALSCALE:GREGORIAN
METHOD:PUBLISH
BEGIN:VEVENT
UID:10000168/2024@contratero.es
DTSTAMP:20260422T080641Z
DTSTART:20240429T235959
DTEND:20240430T005959
SUMMARY:Cierre: Soporte y mantenimiento de productos Oracle existe
DESCRIPTION:Soporte y mantenimiento de productos Oracle existentes para la realización de copias de seguridad en el Ministerio de Trabajo y Economía Social.\\n\\nOrganismo: Junta de Contratación del Ministerio de Trabajo y Economía Social\\n\\nVer en Contratero: https://contratero.es/contracts/10000168/2024
URL:https://contratero.es/contracts/10000168/2024
STATUS:CONFIRMED
BEGIN:VALARM
TRIGGER:-P1D
ACTION:DISPLAY
DESCRIPTION:Recordatorio: Soporte y mantenimiento de pro
END:VALARM
END:VEVENT
END:VCALENDAR