BEGIN:VCALENDAR
VERSION:2.0
PRODID:-//Contratero//ES
CALSCALE:GREGORIAN
METHOD:PUBLISH
BEGIN:VEVENT
UID:10000655/2024@contratero.es
DTSTAMP:20260420T002710Z
DTSTART:20241203T235959
DTEND:20241204T005959
SUMMARY:Cierre: Servicio de recogida\, grabación y depuración de la
DESCRIPTION:Servicio de recogida\, grabación y depuración de la información de la Encuesta Anual Laboral 2024.\\n\\nOrganismo: Junta de Contratación del Ministerio de Trabajo y Economía Social\\n\\nVer en Contratero: https://contratero.es/contracts/10000655/2024
URL:https://contratero.es/contracts/10000655/2024
STATUS:CONFIRMED
BEGIN:VALARM
TRIGGER:-P1D
ACTION:DISPLAY
DESCRIPTION:Recordatorio: Servicio de recogida\, grabació
END:VALARM
END:VEVENT
END:VCALENDAR