BEGIN:VCALENDAR
VERSION:2.0
PRODID:-//Contratero//ES
CALSCALE:GREGORIAN
METHOD:PUBLISH
BEGIN:VEVENT
UID:1004220001900@contratero.es
DTSTAMP:20260424T061514Z
DTSTART:20201013T235959
DTEND:20201014T005959
SUMMARY:Cierre: Acuerdo Marco para el suministro e implantación de
DESCRIPTION:Acuerdo Marco para el suministro e implantación de un sistema de mensajería formal en el Ministerio de Defensa\\n\\nOrganismo: Jefatura de la Sección Económico Financiera de la Dirección General de Infraestructura\\n\\nVer en Contratero: https://contratero.es/contracts/1004220001900
URL:https://contratero.es/contracts/1004220001900
STATUS:CONFIRMED
BEGIN:VALARM
TRIGGER:-P1D
ACTION:DISPLAY
DESCRIPTION:Recordatorio: Acuerdo Marco para el suminist
END:VALARM
END:VEVENT
END:VCALENDAR