BEGIN:VCALENDAR
VERSION:2.0
PRODID:-//Contratero//ES
CALSCALE:GREGORIAN
METHOD:PUBLISH
BEGIN:VEVENT
UID:1012/2025@contratero.es
DTSTAMP:20260422T104245Z
DTSTART:20251028T235959
DTEND:20251029T005959
SUMMARY:Cierre: Mantenimiento y actualización tecnológica con migr
DESCRIPTION:Mantenimiento y actualización tecnológica con migración a SAAS del Sistema de Gestión de Nómina y RRHH\\n\\nOrganismo: Presidencia de la Autoridad Portuaria de Ferrol San Cibrao\\n\\nVer en Contratero: https://contratero.es/contracts/1012/2025
URL:https://contratero.es/contracts/1012/2025
STATUS:CONFIRMED
BEGIN:VALARM
TRIGGER:-P1D
ACTION:DISPLAY
DESCRIPTION:Recordatorio: Mantenimiento y actualización 
END:VALARM
END:VEVENT
END:VCALENDAR