BEGIN:VCALENDAR
VERSION:2.0
PRODID:-//Contratero//ES
CALSCALE:GREGORIAN
METHOD:PUBLISH
BEGIN:VEVENT
UID:10157/2022@contratero.es
DTSTAMP:20260420T172858Z
DTSTART:20220831T235959
DTEND:20220901T005959
SUMMARY:Cierre: Servicio de hospedaje y mantenimiento web municipa
DESCRIPTION:Servicio de hospedaje y mantenimiento web municipal\\n\\nOrganismo: Junta de Gobierno Local del Ayuntamiento de Colmenar Viejo\\n\\nVer en Contratero: https://contratero.es/contracts/10157/2022
URL:https://contratero.es/contracts/10157/2022
STATUS:CONFIRMED
BEGIN:VALARM
TRIGGER:-P1D
ACTION:DISPLAY
DESCRIPTION:Recordatorio: Servicio de hospedaje y manten
END:VALARM
END:VEVENT
END:VCALENDAR