BEGIN:VCALENDAR
VERSION:2.0
PRODID:-//Contratero//ES
CALSCALE:GREGORIAN
METHOD:PUBLISH
BEGIN:VEVENT
UID:10237/2024@contratero.es
DTSTAMP:20260421T184737Z
DTSTART:20250107T235959
DTEND:20250108T005959
SUMMARY:Cierre: Renovación tecnológica del Data Center.
DESCRIPTION:Renovación tecnológica del Data Center.\\n\\nOrganismo: Junta de Gobierno Local del Ayuntamiento de Jávea\\n\\nVer en Contratero: https://contratero.es/contracts/10237/2024
URL:https://contratero.es/contracts/10237/2024
STATUS:CONFIRMED
BEGIN:VALARM
TRIGGER:-P1D
ACTION:DISPLAY
DESCRIPTION:Recordatorio: Renovación tecnológica del Dat
END:VALARM
END:VEVENT
END:VCALENDAR