BEGIN:VCALENDAR
VERSION:2.0
PRODID:-//Contratero//ES
CALSCALE:GREGORIAN
METHOD:PUBLISH
BEGIN:VEVENT
UID:103/21-CO@contratero.es
DTSTAMP:20260424T021314Z
DTSTART:20211201T235959
DTEND:20211202T005959
SUMMARY:Cierre: Servicio de internet para el pabellón de España en
DESCRIPTION:Servicio de internet para el pabellón de España en el MWC22\\n\\nOrganismo: Dirección General de la Entidad Pública Empresarial RED.ES\\n\\nVer en Contratero: https://contratero.es/contracts/103/21-CO
URL:https://contratero.es/contracts/103/21-CO
STATUS:CONFIRMED
BEGIN:VALARM
TRIGGER:-P1D
ACTION:DISPLAY
DESCRIPTION:Recordatorio: Servicio de internet para el p
END:VALARM
END:VEVENT
END:VCALENDAR