BEGIN:VCALENDAR
VERSION:2.0
PRODID:-//Contratero//ES
CALSCALE:GREGORIAN
METHOD:PUBLISH
BEGIN:VEVENT
UID:1036924Y@contratero.es
DTSTAMP:20260423T163338Z
DTSTART:20221027T235959
DTEND:20221028T005959
SUMMARY:Cierre: Prestación de soporte técnico y/o mantenimiento de
DESCRIPTION:Prestación de soporte técnico y/o mantenimiento del actual sistema de gestión de nómina y recursos humanos instalado en los equipos del Área de Recursos Humanos y Administración del Instituto Municipa...\\n\\nOrganismo: Junta de Gobierno del Ayuntamiento de Albacete\\n\\nVer en Contratero: https://contratero.es/contracts/1036924Y
URL:https://contratero.es/contracts/1036924Y
STATUS:CONFIRMED
BEGIN:VALARM
TRIGGER:-P1D
ACTION:DISPLAY
DESCRIPTION:Recordatorio: Prestación de soporte técnico 
END:VALARM
END:VEVENT
END:VCALENDAR