BEGIN:VCALENDAR
VERSION:2.0
PRODID:-//Contratero//ES
CALSCALE:GREGORIAN
METHOD:PUBLISH
BEGIN:VEVENT
UID:10558/2024@contratero.es
DTSTAMP:20260423T201729Z
DTSTART:20250404T235959
DTEND:20250405T005959
SUMMARY:Cierre: Servicio de soporte en Ciberseguridad
DESCRIPTION:Servicio de soporte en Ciberseguridad\\n\\nOrganismo: Junta de Gobierno del Ayuntamiento de Torrelodones\\n\\nVer en Contratero: https://contratero.es/contracts/10558/2024
URL:https://contratero.es/contracts/10558/2024
STATUS:CONFIRMED
BEGIN:VALARM
TRIGGER:-P1D
ACTION:DISPLAY
DESCRIPTION:Recordatorio: Servicio de soporte en Ciberse
END:VALARM
END:VEVENT
END:VCALENDAR