BEGIN:VCALENDAR
VERSION:2.0
PRODID:-//Contratero//ES
CALSCALE:GREGORIAN
METHOD:PUBLISH
BEGIN:VEVENT
UID:10622/2024@contratero.es
DTSTAMP:20260419T210001Z
DTSTART:20250303T235959
DTEND:20250304T005959
SUMMARY:Cierre: Proyecto de implantación del Servicio de protecció
DESCRIPTION:Proyecto de implantación del Servicio de protección de la información del Ayuntamiento de Teulada en modo servicio con el objetivo de mantener la continuidad de negocio\, la securización de los datos y...\\n\\nOrganismo: Junta de Gobierno del Ayuntamiento de Teulada\\n\\nVer en Contratero: https://contratero.es/contracts/10622/2024
URL:https://contratero.es/contracts/10622/2024
STATUS:CONFIRMED
BEGIN:VALARM
TRIGGER:-P1D
ACTION:DISPLAY
DESCRIPTION:Recordatorio: Proyecto de implantación del S
END:VALARM
END:VEVENT
END:VCALENDAR