BEGIN:VCALENDAR
VERSION:2.0
PRODID:-//Contratero//ES
CALSCALE:GREGORIAN
METHOD:PUBLISH
BEGIN:VEVENT
UID:1082/2021@contratero.es
DTSTAMP:20260420T185119Z
DTSTART:20211009T235959
DTEND:20211010T005959
SUMMARY:Cierre: El suministro de una aplicación de gestión económi
DESCRIPTION:El suministro de una aplicación de gestión económica financiera para la gestión de la contabilidad de la Comarca del Bajo Aragón\, el suministro contemplara tanto la adquisición de las licencias necesa...\\n\\nOrganismo: Junta de Gobierno de la Comarca del Bajo Aragón\\n\\nVer en Contratero: https://contratero.es/contracts/1082/2021
URL:https://contratero.es/contracts/1082/2021
STATUS:CONFIRMED
BEGIN:VALARM
TRIGGER:-P1D
ACTION:DISPLAY
DESCRIPTION:Recordatorio: El suministro de una aplicació
END:VALARM
END:VEVENT
END:VCALENDAR