BEGIN:VCALENDAR
VERSION:2.0
PRODID:-//Contratero//ES
CALSCALE:GREGORIAN
METHOD:PUBLISH
BEGIN:VEVENT
UID:10864/2021@contratero.es
DTSTAMP:20260423T184702Z
DTSTART:20220203T235959
DTEND:20220204T005959
SUMMARY:Cierre: Contratación de servicios de implantación y manten
DESCRIPTION:Contratación de servicios de implantación y mantenimiento de una plataforma de gestión para recursos humanos\\n\\nOrganismo: Puertos de las Illes Balears\\n\\nVer en Contratero: https://contratero.es/contracts/10864/2021
URL:https://contratero.es/contracts/10864/2021
STATUS:CONFIRMED
BEGIN:VALARM
TRIGGER:-P1D
ACTION:DISPLAY
DESCRIPTION:Recordatorio: Contratación de servicios de i
END:VALARM
END:VEVENT
END:VCALENDAR