BEGIN:VCALENDAR
VERSION:2.0
PRODID:-//Contratero//ES
CALSCALE:GREGORIAN
METHOD:PUBLISH
BEGIN:VEVENT
UID:109/25@contratero.es
DTSTAMP:20260424T203640Z
DTSTART:20251110T235959
DTEND:20251111T005959
SUMMARY:Cierre: Servicio de mantenimiento de la aplicación de Epsi
DESCRIPTION:Servicio de mantenimiento de la aplicación de Epsilon RH ( Gestión de RRHH y nóminas ) y servicio de soporte telemático-Sau del Ayuntamiento de Alicante\\n\\nOrganismo: Junta de Gobierno Local del Ayuntamiento de Alicante\\n\\nVer en Contratero: https://contratero.es/contracts/109/25
URL:https://contratero.es/contracts/109/25
STATUS:CONFIRMED
BEGIN:VALARM
TRIGGER:-P1D
ACTION:DISPLAY
DESCRIPTION:Recordatorio: Servicio de mantenimiento de l
END:VALARM
END:VEVENT
END:VCALENDAR