BEGIN:VCALENDAR
VERSION:2.0
PRODID:-//Contratero//ES
CALSCALE:GREGORIAN
METHOD:PUBLISH
BEGIN:VEVENT
UID:10925PNSP@contratero.es
DTSTAMP:20260420T185434Z
DTSTART:20251117T235959
DTEND:20251118T005959
SUMMARY:Cierre: Suministro de receptor estacionario Quantum 2 ST y
DESCRIPTION:Suministro de receptor estacionario Quantum 2 ST y dos codificadores IP portátiles Quantum Lite\\n\\nOrganismo: Dirección General de la Sociedad Pública de Radiodifusión y Televisión Extremeña S.A.U.\\n\\nVer en Contratero: https://contratero.es/contracts/10925PNSP
URL:https://contratero.es/contracts/10925PNSP
STATUS:CONFIRMED
BEGIN:VALARM
TRIGGER:-P1D
ACTION:DISPLAY
DESCRIPTION:Recordatorio: Suministro de receptor estacio
END:VALARM
END:VEVENT
END:VCALENDAR