BEGIN:VCALENDAR
VERSION:2.0
PRODID:-//Contratero//ES
CALSCALE:GREGORIAN
METHOD:PUBLISH
BEGIN:VEVENT
UID:11/2023/27006@contratero.es
DTSTAMP:20260422T102724Z
DTSTART:20230221T235959
DTEND:20230222T005959
SUMMARY:Cierre: Servicio de Portal Web y Gestor de Contenidos de P
DESCRIPTION:Servicio de Portal Web y Gestor de Contenidos de Participación Ciudadana\\n\\nOrganismo: Concejalía Delegada de Hacienda\, Régimen Interior del Ayuntamiento de Arganda del Rey\\n\\nVer en Contratero: https://contratero.es/contracts/11/2023/27006
URL:https://contratero.es/contracts/11/2023/27006
STATUS:CONFIRMED
BEGIN:VALARM
TRIGGER:-P1D
ACTION:DISPLAY
DESCRIPTION:Recordatorio: Servicio de Portal Web y Gesto
END:VALARM
END:VEVENT
END:VCALENDAR