BEGIN:VCALENDAR
VERSION:2.0
PRODID:-//Contratero//ES
CALSCALE:GREGORIAN
METHOD:PUBLISH
BEGIN:VEVENT
UID:11/23@contratero.es
DTSTAMP:20260424T083434Z
DTSTART:20230421T235959
DTEND:20230422T005959
SUMMARY:Cierre: Suministro de 100 licencias de uso concurrente del
DESCRIPTION:Suministro de 100 licencias de uso concurrente del software de IBM SPSS STATISTICS con su mantenimiento\, actualización y soporte\\n\\nOrganismo: Rectorado de la Universidad de les Illes Balears\\n\\nVer en Contratero: https://contratero.es/contracts/11/23
URL:https://contratero.es/contracts/11/23
STATUS:CONFIRMED
BEGIN:VALARM
TRIGGER:-P1D
ACTION:DISPLAY
DESCRIPTION:Recordatorio: Suministro de 100 licencias de
END:VALARM
END:VEVENT
END:VCALENDAR