BEGIN:VCALENDAR
VERSION:2.0
PRODID:-//Contratero//ES
CALSCALE:GREGORIAN
METHOD:PUBLISH
BEGIN:VEVENT
UID:11003/2023@contratero.es
DTSTAMP:20260423T063032Z
DTSTART:20230605T235959
DTEND:20230606T005959
SUMMARY:Cierre: Aquisición y actualización de licencias de desplie
DESCRIPTION:Aquisición y actualización de licencias de despliegue ilimitado del entorno Web Logic Suite de Oracle\\n\\nOrganismo: Consejería de Economía\, Hacienda\, Fondos Europeos y Administración Digital de la Región de Murcia\\n\\nVer en Contratero: https://contratero.es/contracts/11003/2023
URL:https://contratero.es/contracts/11003/2023
STATUS:CONFIRMED
BEGIN:VALARM
TRIGGER:-P1D
ACTION:DISPLAY
DESCRIPTION:Recordatorio: Aquisición y actualización de 
END:VALARM
END:VEVENT
END:VCALENDAR