BEGIN:VCALENDAR
VERSION:2.0
PRODID:-//Contratero//ES
CALSCALE:GREGORIAN
METHOD:PUBLISH
BEGIN:VEVENT
UID:11007/2021@contratero.es
DTSTAMP:20260424T231027Z
DTSTART:20210615T235959
DTEND:20210616T005959
SUMMARY:Cierre: Servicio de plataforma de interacción con municipi
DESCRIPTION:Servicio de plataforma de interacción con municipios y ciudadanos\, cofinanciada en un 80% por el Fondo Europeo de Desarrollo Regional (FEDER)\, a través del Programa Operativo de la Región de Murcia 20...\\n\\nOrganismo: Consejería de Economía\, Hacienda\, Fondos Europeos y Transformación Digital de la Región de Murcia\\n\\nVer en Contratero: https://contratero.es/contracts/11007/2021
URL:https://contratero.es/contracts/11007/2021
STATUS:CONFIRMED
BEGIN:VALARM
TRIGGER:-P1D
ACTION:DISPLAY
DESCRIPTION:Recordatorio: Servicio de plataforma de inte
END:VALARM
END:VEVENT
END:VCALENDAR