BEGIN:VCALENDAR
VERSION:2.0
PRODID:-//Contratero//ES
CALSCALE:GREGORIAN
METHOD:PUBLISH
BEGIN:VEVENT
UID:1102/2025@contratero.es
DTSTAMP:20260421T001841Z
DTSTART:20250902T235959
DTEND:20250903T005959
SUMMARY:Cierre: Contratación de los servicios de despliegue\, integ
DESCRIPTION:Contratación de los servicios de despliegue\, integración y soporte del proyecto UNICAS en la Comunidad Valenciana.\\n\\nOrganismo: Dirección General de Gestión Económica\, Contratación e Infraestructuras de la Conselleria de Sanidad\\n\\nVer en Contratero: https://contratero.es/contracts/1102/2025
URL:https://contratero.es/contracts/1102/2025
STATUS:CONFIRMED
BEGIN:VALARM
TRIGGER:-P1D
ACTION:DISPLAY
DESCRIPTION:Recordatorio: Contratación de los servicios 
END:VALARM
END:VEVENT
END:VCALENDAR