BEGIN:VCALENDAR
VERSION:2.0
PRODID:-//Contratero//ES
CALSCALE:GREGORIAN
METHOD:PUBLISH
BEGIN:VEVENT
UID:11023/2020@contratero.es
DTSTAMP:20260424T170602Z
DTSTART:20210506T235959
DTEND:20210507T005959
SUMMARY:Cierre: Soporte del Sistema de Información de Gestión Econ
DESCRIPTION:Soporte del Sistema de Información de Gestión Económica\, Financiera\, Tributaria y Patrimonial de la Comunidad Autónoma de la Región de Murcia\\n\\nOrganismo: Consejería de Economía\, Hacienda y Administración Digital\\n\\nVer en Contratero: https://contratero.es/contracts/11023/2020
URL:https://contratero.es/contracts/11023/2020
STATUS:CONFIRMED
BEGIN:VALARM
TRIGGER:-P1D
ACTION:DISPLAY
DESCRIPTION:Recordatorio: Soporte del Sistema de Informa
END:VALARM
END:VEVENT
END:VCALENDAR