BEGIN:VCALENDAR
VERSION:2.0
PRODID:-//Contratero//ES
CALSCALE:GREGORIAN
METHOD:PUBLISH
BEGIN:VEVENT
UID:1102C2022029@contratero.es
DTSTAMP:20260424T044351Z
DTSTART:20220627T235959
DTEND:20220628T005959
SUMMARY:Cierre: Renovación Del Sistema De Navegación Segura Por In
DESCRIPTION:Renovación Del Sistema De Navegación Segura Por Internet De La Intervención General De La Administración Del Estado\\n\\nOrganismo: Intervención General de la Administración del Estado\\n\\nVer en Contratero: https://contratero.es/contracts/1102C2022029
URL:https://contratero.es/contracts/1102C2022029
STATUS:CONFIRMED
BEGIN:VALARM
TRIGGER:-P1D
ACTION:DISPLAY
DESCRIPTION:Recordatorio: Renovación Del Sistema De Nave
END:VALARM
END:VEVENT
END:VCALENDAR