BEGIN:VCALENDAR
VERSION:2.0
PRODID:-//Contratero//ES
CALSCALE:GREGORIAN
METHOD:PUBLISH
BEGIN:VEVENT
UID:11038/2023@contratero.es
DTSTAMP:20260422T114326Z
DTSTART:20230921T235959
DTEND:20230922T005959
SUMMARY:Cierre: Servicio de mantenimiento de los sitios Web Lifera
DESCRIPTION:Servicio de mantenimiento de los sitios Web Liferay y Wordpress de la Comunidad Autónoma de la Región de Murcia.\\n\\nOrganismo: Consejería de Economía\, Hacienda y Empresa de la Región de Murcia\\n\\nVer en Contratero: https://contratero.es/contracts/11038/2023
URL:https://contratero.es/contracts/11038/2023
STATUS:CONFIRMED
BEGIN:VALARM
TRIGGER:-P1D
ACTION:DISPLAY
DESCRIPTION:Recordatorio: Servicio de mantenimiento de l
END:VALARM
END:VEVENT
END:VCALENDAR